BEGIN:VCALENDAR
VERSION:2.0
PRODID:-//Die PARTEI Kreisverband Reutlingen - ECPv6.15.20//NONSGML v1.0//EN
CALSCALE:GREGORIAN
METHOD:PUBLISH
X-ORIGINAL-URL:https://www.die-partei-reutlingen.de
X-WR-CALDESC:Veranstaltungen für Die PARTEI Kreisverband Reutlingen
REFRESH-INTERVAL;VALUE=DURATION:PT1H
X-Robots-Tag:noindex
X-PUBLISHED-TTL:PT1H
BEGIN:VTIMEZONE
TZID:Europe/Berlin
BEGIN:DAYLIGHT
TZOFFSETFROM:+0100
TZOFFSETTO:+0200
TZNAME:CEST
DTSTART:20230326T010000
END:DAYLIGHT
BEGIN:STANDARD
TZOFFSETFROM:+0200
TZOFFSETTO:+0100
TZNAME:CET
DTSTART:20231029T010000
END:STANDARD
BEGIN:DAYLIGHT
TZOFFSETFROM:+0100
TZOFFSETTO:+0200
TZNAME:CEST
DTSTART:20240331T010000
END:DAYLIGHT
BEGIN:STANDARD
TZOFFSETFROM:+0200
TZOFFSETTO:+0100
TZNAME:CET
DTSTART:20241027T010000
END:STANDARD
BEGIN:DAYLIGHT
TZOFFSETFROM:+0100
TZOFFSETTO:+0200
TZNAME:CEST
DTSTART:20250330T010000
END:DAYLIGHT
BEGIN:STANDARD
TZOFFSETFROM:+0200
TZOFFSETTO:+0100
TZNAME:CET
DTSTART:20251026T010000
END:STANDARD
END:VTIMEZONE
BEGIN:VEVENT
DTSTART;TZID=Europe/Berlin:20241203T190000
DTEND;TZID=Europe/Berlin:20241203T220000
DTSTAMP:20260422T013026
CREATED:20241115T130159Z
LAST-MODIFIED:20241115T130159Z
UID:1706-1733252400-1733263200@www.die-partei-reutlingen.de
SUMMARY:Aufstellungsversammlung zur Wahl ein*e Direktkandidat*in für die Bundestagswahl 2025
DESCRIPTION:Alle PARTEIgenossX aus dem Landkreis Reutlingen sind aufgerufen an der Mitgliederversammlung zur Aufstellung ein*e Direktkandidat*in für die (vorgezogene) Bundestagswahl 2025 teilzunehmen. \nWer selbst kandidieren möchte\, kommt an dem Abend vorbei oder kontaktiert uns über das Kontaktformular oder per E-Mail an vs@die-partei-reutlingen.de. \nBitte bringt sowohl Personal- als auch PARTEI-Ausweis für die Akkreditierung mit. \nWir freuen uns auf zahlreiches Erscheinen!
URL:https://www.die-partei-reutlingen.de/event/aufstellungsversammlung-zur-wahl-eine-direktkandidatin-fuer-die-bundestagswahl-2025/
LOCATION:Haus der Jugend\, Museumstraße 7\, Reutlingen\, Baden-Württemberg\, 72764\, Deutschland
END:VEVENT
BEGIN:VEVENT
DTSTART;TZID=Europe/Berlin:20241213T193000
DTEND;TZID=Europe/Berlin:20241213T220000
DTSTAMP:20260422T013026
CREATED:20241210T082512Z
LAST-MODIFIED:20241210T082512Z
UID:1709-1734118200-1734127200@www.die-partei-reutlingen.de
SUMMARY:PARTEItreff + OpenStreetMap-Stammtisch
DESCRIPTION:Unser diesmaliger Stammtisch findet zusammen mit der OpenStreetMap-Community Reutlingen statt. \nFür alle\, die Interesse an Die PARTEI oder der OSM-Community haben. Unser Direktkandidat für die Bundestagswahl ist ebenfalls vor Ort und freut sich über Unterstützungsunterschriften für die Zulassung zur Wahl.
URL:https://www.die-partei-reutlingen.de/event/parteitreff-openstreetmap-stammtisch/
LOCATION:Nepomuk\, Unter den Linden 23\, Reutlingen\, 72762
END:VEVENT
END:VCALENDAR