BEGIN:VCALENDAR
VERSION:2.0
PRODID:-//Die PARTEI Kreisverband Reutlingen - ECPv6.15.20//NONSGML v1.0//EN
CALSCALE:GREGORIAN
METHOD:PUBLISH
X-WR-CALNAME:Die PARTEI Kreisverband Reutlingen
X-ORIGINAL-URL:https://www.die-partei-reutlingen.de
X-WR-CALDESC:Veranstaltungen für Die PARTEI Kreisverband Reutlingen
REFRESH-INTERVAL;VALUE=DURATION:PT1H
X-Robots-Tag:noindex
X-PUBLISHED-TTL:PT1H
BEGIN:VTIMEZONE
TZID:Europe/Berlin
BEGIN:DAYLIGHT
TZOFFSETFROM:+0100
TZOFFSETTO:+0200
TZNAME:CEST
DTSTART:20230326T010000
END:DAYLIGHT
BEGIN:STANDARD
TZOFFSETFROM:+0200
TZOFFSETTO:+0100
TZNAME:CET
DTSTART:20231029T010000
END:STANDARD
BEGIN:DAYLIGHT
TZOFFSETFROM:+0100
TZOFFSETTO:+0200
TZNAME:CEST
DTSTART:20240331T010000
END:DAYLIGHT
BEGIN:STANDARD
TZOFFSETFROM:+0200
TZOFFSETTO:+0100
TZNAME:CET
DTSTART:20241027T010000
END:STANDARD
BEGIN:DAYLIGHT
TZOFFSETFROM:+0100
TZOFFSETTO:+0200
TZNAME:CEST
DTSTART:20250330T010000
END:DAYLIGHT
BEGIN:STANDARD
TZOFFSETFROM:+0200
TZOFFSETTO:+0100
TZNAME:CET
DTSTART:20251026T010000
END:STANDARD
END:VTIMEZONE
BEGIN:VEVENT
DTSTART;TZID=Europe/Berlin:20240609T190000
DTEND;TZID=Europe/Berlin:20240609T220000
DTSTAMP:20260422T104541
CREATED:20240514T145016Z
LAST-MODIFIED:20240514T145016Z
UID:1618-1717959600-1717970400@www.die-partei-reutlingen.de
SUMMARY:Wahlsiegparty
DESCRIPTION:Die PARTEI feiert ihren grandiosen Wahlsieg
URL:https://www.die-partei-reutlingen.de/event/wahlsiegparty-4/
LOCATION:Schwarzes Café\, Nürtingerhofstraße 6\, Reutlingen\, 72764\, Deutschland
END:VEVENT
END:VCALENDAR