BEGIN:VCALENDAR
VERSION:2.0
PRODID:-//Die PARTEI Kreisverband Reutlingen - ECPv6.15.20//NONSGML v1.0//EN
CALSCALE:GREGORIAN
METHOD:PUBLISH
X-WR-CALNAME:Die PARTEI Kreisverband Reutlingen
X-ORIGINAL-URL:https://www.die-partei-reutlingen.de
X-WR-CALDESC:Veranstaltungen für Die PARTEI Kreisverband Reutlingen
REFRESH-INTERVAL;VALUE=DURATION:PT1H
X-Robots-Tag:noindex
X-PUBLISHED-TTL:PT1H
BEGIN:VTIMEZONE
TZID:Europe/Berlin
BEGIN:DAYLIGHT
TZOFFSETFROM:+0100
TZOFFSETTO:+0200
TZNAME:CEST
DTSTART:20240331T010000
END:DAYLIGHT
BEGIN:STANDARD
TZOFFSETFROM:+0200
TZOFFSETTO:+0100
TZNAME:CET
DTSTART:20241027T010000
END:STANDARD
BEGIN:DAYLIGHT
TZOFFSETFROM:+0100
TZOFFSETTO:+0200
TZNAME:CEST
DTSTART:20250330T010000
END:DAYLIGHT
BEGIN:STANDARD
TZOFFSETFROM:+0200
TZOFFSETTO:+0100
TZNAME:CET
DTSTART:20251026T010000
END:STANDARD
BEGIN:DAYLIGHT
TZOFFSETFROM:+0100
TZOFFSETTO:+0200
TZNAME:CEST
DTSTART:20260329T010000
END:DAYLIGHT
BEGIN:STANDARD
TZOFFSETFROM:+0200
TZOFFSETTO:+0100
TZNAME:CET
DTSTART:20261025T010000
END:STANDARD
END:VTIMEZONE
BEGIN:VEVENT
DTSTART;TZID=Europe/Berlin:20250809T150000
DTEND;TZID=Europe/Berlin:20250809T170000
DTSTAMP:20260421T142413
CREATED:20250722T102402Z
LAST-MODIFIED:20250808T074818Z
UID:1776-1754751600-1754758800@www.die-partei-reutlingen.de
SUMMARY:Kreisparteitag mit Vorstandswahlen
DESCRIPTION:Aus Gründen…. \n  \n15:00 Beginn der Akkreditierung\n15:15 Beginn des Kreisparteitags \n\nWahl des Versammlungsleiters\nWahl des Protokollführers\nFeststellung der satzungsgemäßen Einberufung\nFeststellung der Beschlussfähigkeit\nBeschluss über die Zulassung von Gästen / Vertreter der Presse\nVorstandswahlen\nAnträge\nSchlussworte
URL:https://www.die-partei-reutlingen.de/event/kreisparteitag-mit-vorstandswahlen-3/
LOCATION:Schwarzes Café\, Nürtingerhofstraße 6\, Reutlingen\, 72764\, Deutschland
END:VEVENT
END:VCALENDAR